BEGIN:VCALENDAR
VERSION:2.0
PRODID:-//WestFest - ECPv6.15.20//NONSGML v1.0//EN
CALSCALE:GREGORIAN
METHOD:PUBLISH
X-WR-CALNAME:WestFest
X-ORIGINAL-URL:https://westfest.uk
X-WR-CALDESC:Events for WestFest
REFRESH-INTERVAL;VALUE=DURATION:PT1H
X-Robots-Tag:noindex
X-PUBLISHED-TTL:PT1H
BEGIN:VTIMEZONE
TZID:Europe/London
BEGIN:DAYLIGHT
TZOFFSETFROM:+0000
TZOFFSETTO:+0100
TZNAME:BST
DTSTART:20250330T010000
END:DAYLIGHT
BEGIN:STANDARD
TZOFFSETFROM:+0100
TZOFFSETTO:+0000
TZNAME:GMT
DTSTART:20251026T010000
END:STANDARD
BEGIN:DAYLIGHT
TZOFFSETFROM:+0000
TZOFFSETTO:+0100
TZNAME:BST
DTSTART:20260329T010000
END:DAYLIGHT
BEGIN:STANDARD
TZOFFSETFROM:+0100
TZOFFSETTO:+0000
TZNAME:GMT
DTSTART:20261025T010000
END:STANDARD
BEGIN:DAYLIGHT
TZOFFSETFROM:+0000
TZOFFSETTO:+0100
TZNAME:BST
DTSTART:20270328T010000
END:DAYLIGHT
BEGIN:STANDARD
TZOFFSETFROM:+0100
TZOFFSETTO:+0000
TZNAME:GMT
DTSTART:20271031T010000
END:STANDARD
END:VTIMEZONE
BEGIN:VEVENT
DTSTART;TZID=Europe/London:20260604T200000
DTEND;TZID=Europe/London:20260604T200000
DTSTAMP:20260419T152931
CREATED:20260413T144557Z
LAST-MODIFIED:20260415T143554Z
UID:10004248-1780603200-1780603200@westfest.uk
SUMMARY:THE THURSDAY SHOW
DESCRIPTION:The weekend starts here! Featuring our ace comperes\, seasoned headliners joining forces with newer kids on the comedy block. Great show and value. \n£5-10
URL:https://westfest.uk/event/the-thursday-show/2026-06-04/
LOCATION:The Stand\, 420 Great Western Rd\, Glasgow\, G4 9HZ
CATEGORIES:Comedy
END:VEVENT
BEGIN:VEVENT
DTSTART;TZID=Europe/London:20260611T200000
DTEND;TZID=Europe/London:20260611T200000
DTSTAMP:20260419T152931
CREATED:20260413T144557Z
LAST-MODIFIED:20260415T143554Z
UID:10004423-1781208000-1781208000@westfest.uk
SUMMARY:THE THURSDAY SHOW
DESCRIPTION:The weekend starts here! Featuring our ace comperes\, seasoned headliners joining forces with newer kids on the comedy block. Great show and value. \n£5-10
URL:https://westfest.uk/event/the-thursday-show/2026-06-11/
LOCATION:The Stand\, 420 Great Western Rd\, Glasgow\, G4 9HZ
CATEGORIES:Comedy
END:VEVENT
BEGIN:VEVENT
DTSTART;TZID=Europe/London:20260618T200000
DTEND;TZID=Europe/London:20260618T200000
DTSTAMP:20260419T152931
CREATED:20260413T144557Z
LAST-MODIFIED:20260415T143554Z
UID:10004424-1781812800-1781812800@westfest.uk
SUMMARY:THE THURSDAY SHOW
DESCRIPTION:The weekend starts here! Featuring our ace comperes\, seasoned headliners joining forces with newer kids on the comedy block. Great show and value. \n£5-10
URL:https://westfest.uk/event/the-thursday-show/2026-06-18/
LOCATION:The Stand\, 420 Great Western Rd\, Glasgow\, G4 9HZ
CATEGORIES:Comedy
END:VEVENT
BEGIN:VEVENT
DTSTART;TZID=Europe/London:20260625T200000
DTEND;TZID=Europe/London:20260625T200000
DTSTAMP:20260419T152931
CREATED:20260413T144557Z
LAST-MODIFIED:20260415T143554Z
UID:10004425-1782417600-1782417600@westfest.uk
SUMMARY:THE THURSDAY SHOW
DESCRIPTION:The weekend starts here! Featuring our ace comperes\, seasoned headliners joining forces with newer kids on the comedy block. Great show and value. \n£5-10
URL:https://westfest.uk/event/the-thursday-show/2026-06-25/
LOCATION:The Stand\, 420 Great Western Rd\, Glasgow\, G4 9HZ
CATEGORIES:Comedy
END:VEVENT
END:VCALENDAR