BEGIN:VCALENDAR
VERSION:2.0
PRODID:-//WestFest - ECPv6.15.20//NONSGML v1.0//EN
CALSCALE:GREGORIAN
METHOD:PUBLISH
X-WR-CALNAME:WestFest
X-ORIGINAL-URL:https://westfest.uk
X-WR-CALDESC:Events for WestFest
REFRESH-INTERVAL;VALUE=DURATION:PT1H
X-Robots-Tag:noindex
X-PUBLISHED-TTL:PT1H
BEGIN:VTIMEZONE
TZID:Europe/London
BEGIN:DAYLIGHT
TZOFFSETFROM:+0000
TZOFFSETTO:+0100
TZNAME:BST
DTSTART:20250330T010000
END:DAYLIGHT
BEGIN:STANDARD
TZOFFSETFROM:+0100
TZOFFSETTO:+0000
TZNAME:GMT
DTSTART:20251026T010000
END:STANDARD
BEGIN:DAYLIGHT
TZOFFSETFROM:+0000
TZOFFSETTO:+0100
TZNAME:BST
DTSTART:20260329T010000
END:DAYLIGHT
BEGIN:STANDARD
TZOFFSETFROM:+0100
TZOFFSETTO:+0000
TZNAME:GMT
DTSTART:20261025T010000
END:STANDARD
BEGIN:DAYLIGHT
TZOFFSETFROM:+0000
TZOFFSETTO:+0100
TZNAME:BST
DTSTART:20270328T010000
END:DAYLIGHT
BEGIN:STANDARD
TZOFFSETFROM:+0100
TZOFFSETTO:+0000
TZNAME:GMT
DTSTART:20271031T010000
END:STANDARD
END:VTIMEZONE
BEGIN:VEVENT
DTSTART;TZID=Europe/London:20260606T200000
DTEND;TZID=Europe/London:20260606T200000
DTSTAMP:20260421T092748
CREATED:20260413T145203Z
LAST-MODIFIED:20260415T144218Z
UID:10004250-1780776000-1780776000@westfest.uk
SUMMARY:THE SATURDAY SHOW
DESCRIPTION:Our big weekend shows feature premium stand-up comedy. Seasoned pros from the Scottish and international circuits. Five acts on every bill offer variety and value in a bumper two-hour show. \n£20
URL:https://westfest.uk/event/the-saturday-show/2026-06-06/
LOCATION:The Stand\, 420 Great Western Rd\, Glasgow\, G4 9HZ
CATEGORIES:Comedy
END:VEVENT
BEGIN:VEVENT
DTSTART;TZID=Europe/London:20260613T200000
DTEND;TZID=Europe/London:20260613T200000
DTSTAMP:20260421T092748
CREATED:20260413T145203Z
LAST-MODIFIED:20260415T144218Z
UID:10004481-1781380800-1781380800@westfest.uk
SUMMARY:THE SATURDAY SHOW
DESCRIPTION:Our big weekend shows feature premium stand-up comedy. Seasoned pros from the Scottish and international circuits. Five acts on every bill offer variety and value in a bumper two-hour show. \n£20
URL:https://westfest.uk/event/the-saturday-show/2026-06-13/
LOCATION:The Stand\, 420 Great Western Rd\, Glasgow\, G4 9HZ
CATEGORIES:Comedy
END:VEVENT
BEGIN:VEVENT
DTSTART;TZID=Europe/London:20260620T200000
DTEND;TZID=Europe/London:20260620T200000
DTSTAMP:20260421T092748
CREATED:20260413T145203Z
LAST-MODIFIED:20260415T144218Z
UID:10004482-1781985600-1781985600@westfest.uk
SUMMARY:THE SATURDAY SHOW
DESCRIPTION:Our big weekend shows feature premium stand-up comedy. Seasoned pros from the Scottish and international circuits. Five acts on every bill offer variety and value in a bumper two-hour show. \n£20
URL:https://westfest.uk/event/the-saturday-show/2026-06-20/
LOCATION:The Stand\, 420 Great Western Rd\, Glasgow\, G4 9HZ
CATEGORIES:Comedy
END:VEVENT
BEGIN:VEVENT
DTSTART;TZID=Europe/London:20260627T200000
DTEND;TZID=Europe/London:20260627T200000
DTSTAMP:20260421T092748
CREATED:20260413T145203Z
LAST-MODIFIED:20260415T144218Z
UID:10004483-1782590400-1782590400@westfest.uk
SUMMARY:THE SATURDAY SHOW
DESCRIPTION:Our big weekend shows feature premium stand-up comedy. Seasoned pros from the Scottish and international circuits. Five acts on every bill offer variety and value in a bumper two-hour show. \n£20
URL:https://westfest.uk/event/the-saturday-show/2026-06-27/
LOCATION:The Stand\, 420 Great Western Rd\, Glasgow\, G4 9HZ
CATEGORIES:Comedy
END:VEVENT
END:VCALENDAR