BEGIN:VCALENDAR
VERSION:2.0
PRODID:-//WestFest - ECPv6.15.20//NONSGML v1.0//EN
CALSCALE:GREGORIAN
METHOD:PUBLISH
X-WR-CALNAME:WestFest
X-ORIGINAL-URL:https://westfest.uk
X-WR-CALDESC:Events for WestFest
REFRESH-INTERVAL;VALUE=DURATION:PT1H
X-Robots-Tag:noindex
X-PUBLISHED-TTL:PT1H
BEGIN:VTIMEZONE
TZID:Europe/London
BEGIN:DAYLIGHT
TZOFFSETFROM:+0000
TZOFFSETTO:+0100
TZNAME:BST
DTSTART:20250330T010000
END:DAYLIGHT
BEGIN:STANDARD
TZOFFSETFROM:+0100
TZOFFSETTO:+0000
TZNAME:GMT
DTSTART:20251026T010000
END:STANDARD
BEGIN:DAYLIGHT
TZOFFSETFROM:+0000
TZOFFSETTO:+0100
TZNAME:BST
DTSTART:20260329T010000
END:DAYLIGHT
BEGIN:STANDARD
TZOFFSETFROM:+0100
TZOFFSETTO:+0000
TZNAME:GMT
DTSTART:20261025T010000
END:STANDARD
BEGIN:DAYLIGHT
TZOFFSETFROM:+0000
TZOFFSETTO:+0100
TZNAME:BST
DTSTART:20270328T010000
END:DAYLIGHT
BEGIN:STANDARD
TZOFFSETFROM:+0100
TZOFFSETTO:+0000
TZNAME:GMT
DTSTART:20271031T010000
END:STANDARD
END:VTIMEZONE
BEGIN:VEVENT
DTSTART;TZID=Europe/London:20260604T190000
DTEND;TZID=Europe/London:20260604T190000
DTSTAMP:20260421T092740
CREATED:20260413T161652Z
LAST-MODIFIED:20260415T153437Z
UID:10004185-1780599600-1780599600@westfest.uk
SUMMARY:THE GARDENER QUIZ
DESCRIPTION:Join us every Thursday to test your knowledge at The Gardener Quiz. £50 is up for grabs as well as lots of other fun prizes. \nthegardenerglasgow.co.uk \nIg: gardenerglasgow
URL:https://westfest.uk/event/the-gardener-quiz/2026-06-04/
LOCATION:Grosvenor Cafe\, 24 Ashton Lane\, Glasgow\, G12 8SJ
CATEGORIES:Food Drink & Festivities
END:VEVENT
BEGIN:VEVENT
DTSTART;TZID=Europe/London:20260611T190000
DTEND;TZID=Europe/London:20260611T190000
DTSTAMP:20260421T092740
CREATED:20260413T161652Z
LAST-MODIFIED:20260415T153437Z
UID:10004543-1781204400-1781204400@westfest.uk
SUMMARY:THE GARDENER QUIZ
DESCRIPTION:Join us every Thursday to test your knowledge at The Gardener Quiz. £50 is up for grabs as well as lots of other fun prizes. \nthegardenerglasgow.co.uk \nIg: gardenerglasgow
URL:https://westfest.uk/event/the-gardener-quiz/2026-06-11/
LOCATION:Grosvenor Cafe\, 24 Ashton Lane\, Glasgow\, G12 8SJ
CATEGORIES:Food Drink & Festivities
END:VEVENT
BEGIN:VEVENT
DTSTART;TZID=Europe/London:20260618T190000
DTEND;TZID=Europe/London:20260618T190000
DTSTAMP:20260421T092740
CREATED:20260413T161652Z
LAST-MODIFIED:20260415T153437Z
UID:10004544-1781809200-1781809200@westfest.uk
SUMMARY:THE GARDENER QUIZ
DESCRIPTION:Join us every Thursday to test your knowledge at The Gardener Quiz. £50 is up for grabs as well as lots of other fun prizes. \nthegardenerglasgow.co.uk \nIg: gardenerglasgow
URL:https://westfest.uk/event/the-gardener-quiz/2026-06-18/
LOCATION:Grosvenor Cafe\, 24 Ashton Lane\, Glasgow\, G12 8SJ
CATEGORIES:Food Drink & Festivities
END:VEVENT
BEGIN:VEVENT
DTSTART;TZID=Europe/London:20260625T190000
DTEND;TZID=Europe/London:20260625T190000
DTSTAMP:20260421T092740
CREATED:20260413T161652Z
LAST-MODIFIED:20260415T153437Z
UID:10004545-1782414000-1782414000@westfest.uk
SUMMARY:THE GARDENER QUIZ
DESCRIPTION:Join us every Thursday to test your knowledge at The Gardener Quiz. £50 is up for grabs as well as lots of other fun prizes. \nthegardenerglasgow.co.uk \nIg: gardenerglasgow
URL:https://westfest.uk/event/the-gardener-quiz/2026-06-25/
LOCATION:Grosvenor Cafe\, 24 Ashton Lane\, Glasgow\, G12 8SJ
CATEGORIES:Food Drink & Festivities
END:VEVENT
END:VCALENDAR